BEGIN:VCALENDAR
VERSION:2.0
PRODID:-//Cultura Por Montera - ECPv5.6.0//NONSGML v1.0//EN
CALSCALE:GREGORIAN
METHOD:PUBLISH
X-WR-CALNAME:Cultura Por Montera
X-ORIGINAL-URL:https://culturapormontera.es
X-WR-CALDESC:Eventos para Cultura Por Montera
BEGIN:VTIMEZONE
TZID:Europe/Madrid
BEGIN:DAYLIGHT
TZOFFSETFROM:+0100
TZOFFSETTO:+0200
TZNAME:CEST
DTSTART:20250330T010000
END:DAYLIGHT
BEGIN:STANDARD
TZOFFSETFROM:+0200
TZOFFSETTO:+0100
TZNAME:CET
DTSTART:20251026T010000
END:STANDARD
END:VTIMEZONE
BEGIN:VEVENT
DTSTART;TZID=Europe/Madrid:20250218T113000
DTEND;TZID=Europe/Madrid:20250218T120000
DTSTAMP:20260423T182404
CREATED:20250129T141301Z
LAST-MODIFIED:20250129T141301Z
UID:1913-1739878200-1739880000@culturapormontera.es
SUMMARY:HOMENAJE DESCUBRIMIENTO CERÁMICA FARMACIA DOMINGO BAUTISTA
DESCRIPTION:Tweet\n								\n							\n								\n									\n									Comparte \n									0\n								\n							\n								\n									\n									+1\n								\n							\n								\n									\n									Email
URL:https://culturapormontera.es/eventos/homenaje-descubrimiento-ceramica-farmacia-domingo-bautista/
ATTACH;FMTTYPE=image/png:https://culturapormontera.es/wp-content/uploads/2025/01/XII-JORNADAS-CULTURALES-ANDALUZAS-2-2.png
END:VEVENT
END:VCALENDAR